BEGIN:VCALENDAR
VERSION:2.0
PRODID:-//Willkommen in Seligenstadt e.V. - ECPv6.15.20//NONSGML v1.0//EN
CALSCALE:GREGORIAN
METHOD:PUBLISH
X-WR-CALNAME:Willkommen in Seligenstadt e.V.
X-ORIGINAL-URL:https://ak-willkommen.org
X-WR-CALDESC:Veranstaltungen für Willkommen in Seligenstadt e.V.
REFRESH-INTERVAL;VALUE=DURATION:PT1H
X-Robots-Tag:noindex
X-PUBLISHED-TTL:PT1H
BEGIN:VTIMEZONE
TZID:Europe/Berlin
BEGIN:DAYLIGHT
TZOFFSETFROM:+0100
TZOFFSETTO:+0200
TZNAME:CEST
DTSTART:20230326T010000
END:DAYLIGHT
BEGIN:STANDARD
TZOFFSETFROM:+0200
TZOFFSETTO:+0100
TZNAME:CET
DTSTART:20231029T010000
END:STANDARD
BEGIN:DAYLIGHT
TZOFFSETFROM:+0100
TZOFFSETTO:+0200
TZNAME:CEST
DTSTART:20240331T010000
END:DAYLIGHT
BEGIN:STANDARD
TZOFFSETFROM:+0200
TZOFFSETTO:+0100
TZNAME:CET
DTSTART:20241027T010000
END:STANDARD
BEGIN:DAYLIGHT
TZOFFSETFROM:+0100
TZOFFSETTO:+0200
TZNAME:CEST
DTSTART:20250330T010000
END:DAYLIGHT
BEGIN:STANDARD
TZOFFSETFROM:+0200
TZOFFSETTO:+0100
TZNAME:CET
DTSTART:20251026T010000
END:STANDARD
END:VTIMEZONE
BEGIN:VEVENT
DTSTART;TZID=Europe/Berlin:20241116T150000
DTEND;TZID=Europe/Berlin:20241116T200000
DTSTAMP:20260420T180131
CREATED:20240319T123950Z
LAST-MODIFIED:20241105T154114Z
UID:2386-1731769200-1731787200@ak-willkommen.org
SUMMARY:Fest: 10 Jahre AK Willkommen
DESCRIPTION:10 Jahre Willkommen in Seligenstadt e.V.\n\nVor zehn Jahren haben sich unser Gründer Burkard Müller und engagierte Bürgerinnen und Bürger mit dem Ziel zusammengeschlossen\, in Seligenstadt einen Raum für Begegnung\, Unterstützung und Integration zu schaffen. Heute blicken wir auf eine ereignisreiche Dekade voller Engagement\, neuer Freundschaften und gemeinsamer Erfolge zurück. Dieses Jubiläum möchten wir feiern – und wir würden uns freuen\, wenn Sie dabei sind!\n\nMit viel Herz und ehrenamtlichem Einsatz haben wir in den letzten zehn Jahren zahlreiche Initiativen ins Leben gerufen\, die Begegnung und Miteinander fördern. Unsere monatlichen Begegnungscafés bieten regelmäßig Raum für Austausch und Verständigung zwischen Menschen unterschiedlicher Herkunft und tragen dazu bei\, Vorurteile abzubauen und Verbindungen zu schaffen.\n\nDas FLIDUM\, 2016 als Sprachschule und unser Headquarter gegründet\, hat sich als zentrale Anlaufstelle etabliert\, wo Unterstützung und Beratung für geflüchtete Menschen und deren Integration in unsere Gemeinschaft im Vordergrund stehen.\n\nSeit rund zwei Jahren betreiben wir gemeinsam mit der Kolpingfamilie die Bunte Kiste – ein Projekt\, das über den Verkauf gespendeter Secondhand-Artikel nicht nur nachhaltige Einkaufsmöglichkeiten schafft\, sondern auch integrative Arbeit unterstützt.\n\nAn unserem Jubiläumstag möchten wir gemeinsam mit Ihnen auf die Erfolge dieser und weiterer Aktivitäten blicken und einen Ausblick auf die Zukunft unserer Arbeit geben. Zusammen mit unseren ehrenamtlichen Helferinnen und Helfern\, Unterstützern und allen\, die uns auf diesem Weg begleitet haben\, erwarten Sie spannende Beiträge\, schöne Erinnerungen und Gelegenheiten zum Austausch. Ein musikalisches Rahmenprogramm und kulinarische Köstlichkeiten werden den Abend abrunden.\n\nWir freuen uns sehr darauf\, diesen besonderen Tag mit Ihnen zu feiern!
URL:https://ak-willkommen.org/event/10-jahre-willkommen-in-seligenstadt/
LOCATION:Evangelisches Gemeindezentrum\, Jahnstraße 24\, Seligenstadt\, Hessen\, 63500\, Deutschland
CATEGORIES:Event
ATTACH;FMTTYPE=image/jpeg:https://ak-willkommen.org/wp-content/uploads/2024/10/Begegnungscafe-Plakat-Nov-2024-scaled.jpg
ORGANIZER;CN="AK Willkommen in Seligenstadt":MAILTO:kontakt@ak-willkommen.org
END:VEVENT
END:VCALENDAR