BEGIN:VCALENDAR
VERSION:2.0
PRODID:-//Willkommen in Seligenstadt e.V. - ECPv6.15.20//NONSGML v1.0//EN
CALSCALE:GREGORIAN
METHOD:PUBLISH
X-ORIGINAL-URL:https://ak-willkommen.org
X-WR-CALDESC:Veranstaltungen für Willkommen in Seligenstadt e.V.
REFRESH-INTERVAL;VALUE=DURATION:PT1H
X-Robots-Tag:noindex
X-PUBLISHED-TTL:PT1H
BEGIN:VTIMEZONE
TZID:Europe/Berlin
BEGIN:DAYLIGHT
TZOFFSETFROM:+0100
TZOFFSETTO:+0200
TZNAME:CEST
DTSTART:20230326T010000
END:DAYLIGHT
BEGIN:STANDARD
TZOFFSETFROM:+0200
TZOFFSETTO:+0100
TZNAME:CET
DTSTART:20231029T010000
END:STANDARD
BEGIN:DAYLIGHT
TZOFFSETFROM:+0100
TZOFFSETTO:+0200
TZNAME:CEST
DTSTART:20240331T010000
END:DAYLIGHT
BEGIN:STANDARD
TZOFFSETFROM:+0200
TZOFFSETTO:+0100
TZNAME:CET
DTSTART:20241027T010000
END:STANDARD
BEGIN:DAYLIGHT
TZOFFSETFROM:+0100
TZOFFSETTO:+0200
TZNAME:CEST
DTSTART:20250330T010000
END:DAYLIGHT
BEGIN:STANDARD
TZOFFSETFROM:+0200
TZOFFSETTO:+0100
TZNAME:CET
DTSTART:20251026T010000
END:STANDARD
END:VTIMEZONE
BEGIN:VEVENT
DTSTART;TZID=Europe/Berlin:20240720T150000
DTEND;TZID=Europe/Berlin:20240720T173000
DTSTAMP:20260424T172550
CREATED:20240701T110306Z
LAST-MODIFIED:20240701T110615Z
UID:2405-1721487600-1721496600@ak-willkommen.org
SUMMARY:80. Internationales Begegnungscafé
DESCRIPTION:Der AK Willkommen richtet in Seligenstadt zum 80. Mal ein Internationales Begegnungscafé aus.\n\nAm 20. Juli öffnet das Begegnungscafé zum 80. Mal seine Türen: Zwischen 15:00 und 17.30 Uhr gibt es im Evangelischen Gemeindezentrum in der Jahnstraße Kaffee und Kuchen\, kulinarische Spezialitäten sowie vielfältige Spiel- und Kreativangebote\, die ein entspanntes Miteinander ermöglichen.\n\nWillkommen sind Geflüchtete\, Freunde und Helfer des AK Willkommen sowie alle Bürger Seligenstadts\, die sich für den gegenseitigen Austausch interessieren.
URL:https://ak-willkommen.org/event/80-internationales-begegnungscafe/
LOCATION:Evangelisches Gemeindezentrum\, Jahnstraße 24\, Seligenstadt\, Hessen\, 63500\, Deutschland
ATTACH;FMTTYPE=image/jpeg:https://ak-willkommen.org/wp-content/uploads/2024/05/Begegnungscafe-Plakat-Juli-2024.jpg
ORGANIZER;CN="AK Willkommen in Seligenstadt":MAILTO:kontakt@ak-willkommen.org
END:VEVENT
END:VCALENDAR