BEGIN:VCALENDAR
VERSION:2.0
PRODID:-//Willkommen in Seligenstadt e.V. - ECPv6.15.20//NONSGML v1.0//EN
CALSCALE:GREGORIAN
METHOD:PUBLISH
X-WR-CALNAME:Willkommen in Seligenstadt e.V.
X-ORIGINAL-URL:https://ak-willkommen.org
X-WR-CALDESC:Veranstaltungen für Willkommen in Seligenstadt e.V.
REFRESH-INTERVAL;VALUE=DURATION:PT1H
X-Robots-Tag:noindex
X-PUBLISHED-TTL:PT1H
BEGIN:VTIMEZONE
TZID:Europe/Berlin
BEGIN:DAYLIGHT
TZOFFSETFROM:+0100
TZOFFSETTO:+0200
TZNAME:CEST
DTSTART:20240331T010000
END:DAYLIGHT
BEGIN:STANDARD
TZOFFSETFROM:+0200
TZOFFSETTO:+0100
TZNAME:CET
DTSTART:20241027T010000
END:STANDARD
BEGIN:DAYLIGHT
TZOFFSETFROM:+0100
TZOFFSETTO:+0200
TZNAME:CEST
DTSTART:20250330T010000
END:DAYLIGHT
BEGIN:STANDARD
TZOFFSETFROM:+0200
TZOFFSETTO:+0100
TZNAME:CET
DTSTART:20251026T010000
END:STANDARD
BEGIN:DAYLIGHT
TZOFFSETFROM:+0100
TZOFFSETTO:+0200
TZNAME:CEST
DTSTART:20260329T010000
END:DAYLIGHT
BEGIN:STANDARD
TZOFFSETFROM:+0200
TZOFFSETTO:+0100
TZNAME:CET
DTSTART:20261025T010000
END:STANDARD
END:VTIMEZONE
BEGIN:VEVENT
DTSTART;TZID=Europe/Berlin:20250812T080000
DTEND;TZID=Europe/Berlin:20250812T170000
DTSTAMP:20260419T192632
CREATED:20250812T133140Z
LAST-MODIFIED:20250812T133140Z
UID:2490-1754985600-1755018000@ak-willkommen.org
SUMMARY:92. Internationales Begegnungscafé
DESCRIPTION:Herzliche Einladung zum 92. Begegnungscafé!\n\nAm 16. August um 15:00 bis 17.30 Uhr lädt Willkommen in Seligenstadt e.V. alle Bürgerinnen und Bürger zum 92. Mal herzlich zu unserem nächsten Begegnungscafé ein!\n\nKommt vorbei und genießt eine entspannte Atmosphäre\, lernt neue Leute kennen und tauscht euch aus. Egal ob jung oder alt\, neu in Seligenstadt oder Urgestein – alle sind herzlich willkommen! Gemeinsam möchten wir Brücken bauen und einander besser kennenlernen.\n\nWir laden Euch sehr herzlich ein\, bei leckerem Kaffee\, Kuchen und Eis zusammenzukommen. Wir freuen uns auf einen schönen Nachmittag mit Euch!
URL:https://ak-willkommen.org/event/92-internationales-begegnungscafe/
LOCATION:Evangelisches Gemeindezentrum\, Jahnstraße 24\, Seligenstadt\, Hessen\, 63500\, Deutschland
CATEGORIES:Event
ATTACH;FMTTYPE=image/jpeg:https://ak-willkommen.org/wp-content/uploads/2025/08/Begegnungscafe-Plakat-August-2025-scaled.jpg
ORGANIZER;CN="AK Willkommen in Seligenstadt":MAILTO:kontakt@ak-willkommen.org
END:VEVENT
END:VCALENDAR